BEGIN:VCALENDAR
VERSION:2.0
PRODID:-//pretix//BBeatz_-_Ticketshop//
BEGIN:VTIMEZONE
TZID:Europe/Berlin
BEGIN:STANDARD
DTSTART:20001029T040000
RRULE:FREQ=YEARLY;BYDAY=-1SU;BYMONTH=10
TZNAME:CET
TZOFFSETFROM:+0200
TZOFFSETTO:+0100
END:STANDARD
BEGIN:DAYLIGHT
DTSTART:20000326T030000
RRULE:FREQ=YEARLY;BYDAY=-1SU;BYMONTH=3
TZNAME:CEST
TZOFFSETFROM:+0100
TZOFFSETTO:+0200
END:DAYLIGHT
END:VTIMEZONE
BEGIN:VEVENT
UID:pretix-bbeatz-neuland3-0@ticket.ksieting.ddnss.de
DTSTART;TZID=Europe/Berlin:20260513T000000
DTEND;TZID=Europe/Berlin:20260513T010000
DESCRIPTION:Tickets: http://ticket.ksieting.ddnss.de/bbeatz/neuland3/\nVera
 nstalter: bbeatz
DTSTAMP:20260424T155905Z
LOCATION:Mildenberg
SUMMARY:Neuland 3.0
END:VEVENT
END:VCALENDAR
